BEGIN:VCALENDAR
VERSION:2.0
PRODID:-//Zeeland Farm Services Inc. - ECPv6.15.20//NONSGML v1.0//EN
CALSCALE:GREGORIAN
METHOD:PUBLISH
X-ORIGINAL-URL:https://www.zfsinc.com
X-WR-CALDESC:Events for Zeeland Farm Services Inc.
REFRESH-INTERVAL;VALUE=DURATION:PT1H
X-Robots-Tag:noindex
X-PUBLISHED-TTL:PT1H
BEGIN:VTIMEZONE
TZID:UTC
BEGIN:STANDARD
TZOFFSETFROM:+0000
TZOFFSETTO:+0000
TZNAME:UTC
DTSTART:20250101T000000
END:STANDARD
END:VTIMEZONE
BEGIN:VEVENT
DTSTART;VALUE=DATE:20260622
DTEND;VALUE=DATE:20260626
DTSTAMP:20260420T195220
CREATED:20231107T014950Z
LAST-MODIFIED:20251120T205804Z
UID:5264-1782086400-1782431999@www.zfsinc.com
SUMMARY:2026 National Holstein Convention
DESCRIPTION:
URL:https://www.zfsinc.com/event/2024-national-holstein-convention/
LOCATION:Michigan
CATEGORIES:General ag related
END:VEVENT
END:VCALENDAR