BEGIN:VCALENDAR
VERSION:2.0
PRODID:-//Zeeland Farm Services Inc. - ECPv6.15.20//NONSGML v1.0//EN
CALSCALE:GREGORIAN
METHOD:PUBLISH
X-WR-CALNAME:Zeeland Farm Services Inc.
X-ORIGINAL-URL:https://www.zfsinc.com
X-WR-CALDESC:Events for Zeeland Farm Services Inc.
REFRESH-INTERVAL;VALUE=DURATION:PT1H
X-Robots-Tag:noindex
X-PUBLISHED-TTL:PT1H
BEGIN:VTIMEZONE
TZID:UTC
BEGIN:STANDARD
TZOFFSETFROM:+0000
TZOFFSETTO:+0000
TZNAME:UTC
DTSTART:20250101T000000
END:STANDARD
END:VTIMEZONE
BEGIN:VEVENT
DTSTART;VALUE=DATE:20260113
DTEND;VALUE=DATE:20260116
DTSTAMP:20260420T213309
CREATED:20231107T013359Z
LAST-MODIFIED:20251120T212924Z
UID:5256-1768262400-1768521599@www.zfsinc.com
SUMMARY:Fort Wayne Farm Show 2026
DESCRIPTION:
URL:https://www.zfsinc.com/event/fort-wayne-farm-show/
LOCATION:Michigan
CATEGORIES:General ag related
ATTACH;FMTTYPE=image/jpeg:https://www.zfsinc.com/wp-content/uploads/2023/11/Ft-Wayne-Farm-Show.jpg
END:VEVENT
BEGIN:VEVENT
DTSTART;VALUE=DATE:20260127
DTEND;VALUE=DATE:20260129
DTSTAMP:20260420T213309
CREATED:20221111T213137Z
LAST-MODIFIED:20251120T203143Z
UID:4984-1769472000-1769644799@www.zfsinc.com
SUMMARY:Great Lakes Crop Summit 2026
DESCRIPTION:
URL:https://www.zfsinc.com/event/greatlakescropsummit-com/
LOCATION:Soaring Eagle Casino and Resort
ATTACH;FMTTYPE=image/png:https://www.zfsinc.com/wp-content/uploads/2018/12/great-lakes-crop-summit-logo-medium.png
END:VEVENT
END:VCALENDAR