BEGIN:VCALENDAR
VERSION:2.0
PRODID:-//Zeeland Farm Services Inc. - ECPv6.15.20//NONSGML v1.0//EN
CALSCALE:GREGORIAN
METHOD:PUBLISH
X-WR-CALNAME:Zeeland Farm Services Inc.
X-ORIGINAL-URL:https://www.zfsinc.com
X-WR-CALDESC:Events for Zeeland Farm Services Inc.
REFRESH-INTERVAL;VALUE=DURATION:PT1H
X-Robots-Tag:noindex
X-PUBLISHED-TTL:PT1H
BEGIN:VTIMEZONE
TZID:UTC
BEGIN:STANDARD
TZOFFSETFROM:+0000
TZOFFSETTO:+0000
TZNAME:UTC
DTSTART:20240101T000000
END:STANDARD
END:VTIMEZONE
BEGIN:VEVENT
DTSTART;VALUE=DATE:20251002
DTEND;VALUE=DATE:20251005
DTSTAMP:20260421T024239
CREATED:20220923T182742Z
LAST-MODIFIED:20250422T204450Z
UID:4923-1759363200-1759622399@www.zfsinc.com
SUMMARY:Zeeland Pumpkinfest
DESCRIPTION:
URL:https://www.zfsinc.com/event/pumpkinfest/
LOCATION:Michigan
CATEGORIES:General ag related
END:VEVENT
END:VCALENDAR