BEGIN:VCALENDAR
VERSION:2.0
PRODID:-//Zeeland Farm Services Inc. - ECPv6.15.20//NONSGML v1.0//EN
CALSCALE:GREGORIAN
METHOD:PUBLISH
X-ORIGINAL-URL:https://www.zfsinc.com
X-WR-CALDESC:Events for Zeeland Farm Services Inc.
REFRESH-INTERVAL;VALUE=DURATION:PT1H
X-Robots-Tag:noindex
X-PUBLISHED-TTL:PT1H
BEGIN:VTIMEZONE
TZID:UTC
BEGIN:STANDARD
TZOFFSETFROM:+0000
TZOFFSETTO:+0000
TZNAME:UTC
DTSTART:20240101T000000
END:STANDARD
END:VTIMEZONE
BEGIN:VEVENT
DTSTART;TZID=UTC:20250925T180000
DTEND;TZID=UTC:20250925T200000
DTSTAMP:20260421T121253
CREATED:20220923T182145Z
LAST-MODIFIED:20250422T173551Z
UID:4917-1758823200-1758830400@www.zfsinc.com
SUMMARY:Farms are the Tapas
DESCRIPTION:An event to support Farmland Preservation \nJoin in person or online at the premier farmland preservation event. \nEnjoy locally sourced signature tapas dishes created by chefs from area restaurants competing to win the coveted Harvest Knife Award! Guests will have an opportunity to taste tapas\, vote on their favorite dish and virtually bid on silent auction items – all while supporting farmland preservation. \nTo register for this event visit https://event.gives/tapas2025/Farms_are_the_Tapas_2025
URL:https://www.zfsinc.com/event/farms-are-the-tapas/
LOCATION:The Red Shed\, 5301 Barry St\, Hudsonville\, MI\, 49426
CATEGORIES:General ag related
ATTACH;FMTTYPE=image/png:https://www.zfsinc.com/wp-content/uploads/2022/09/Farms-are-the-Tapas-2022.png
END:VEVENT
END:VCALENDAR