BEGIN:VCALENDAR
VERSION:2.0
PRODID:-//Zeeland Farm Services Inc. - ECPv6.15.20//NONSGML v1.0//EN
CALSCALE:GREGORIAN
METHOD:PUBLISH
X-WR-CALNAME:Zeeland Farm Services Inc.
X-ORIGINAL-URL:https://www.zfsinc.com
X-WR-CALDESC:Events for Zeeland Farm Services Inc.
REFRESH-INTERVAL;VALUE=DURATION:PT1H
X-Robots-Tag:noindex
X-PUBLISHED-TTL:PT1H
BEGIN:VTIMEZONE
TZID:UTC
BEGIN:STANDARD
TZOFFSETFROM:+0000
TZOFFSETTO:+0000
TZNAME:UTC
DTSTART:20240101T000000
END:STANDARD
END:VTIMEZONE
BEGIN:VEVENT
DTSTART;VALUE=DATE:20250714
DTEND;VALUE=DATE:20250720
DTSTAMP:20260421T133601
CREATED:20250422T165044Z
LAST-MODIFIED:20250422T165044Z
UID:5678-1752451200-1752969599@www.zfsinc.com
SUMMARY:Barry County Fair
DESCRIPTION:
URL:https://www.zfsinc.com/event/barry-county-fair/
LOCATION:Barry Expo Center\, 1350 M-37 Hwy\, Hastings\, MI\, 49058\, United States
CATEGORIES:General ag related
END:VEVENT
BEGIN:VEVENT
DTSTART;VALUE=DATE:20250731
DTEND;VALUE=DATE:20250803
DTSTAMP:20260421T133601
CREATED:20250422T165419Z
LAST-MODIFIED:20250422T170037Z
UID:5681-1753920000-1754179199@www.zfsinc.com
SUMMARY:Big Red Classic
DESCRIPTION:
URL:https://www.zfsinc.com/event/big-red-classic/
LOCATION:Yacht Basin Marina\, 1866 Ottawa Beach Road\, Park Twp\, MI\, 49424\, United States
CATEGORIES:General ag related
ATTACH;FMTTYPE=image/jpeg:https://www.zfsinc.com/wp-content/uploads/2025/04/big-red-classic.jpg
END:VEVENT
END:VCALENDAR