BEGIN:VCALENDAR
VERSION:2.0
PRODID:-//Zeeland Farm Services Inc. - ECPv6.15.20//NONSGML v1.0//EN
CALSCALE:GREGORIAN
METHOD:PUBLISH
X-ORIGINAL-URL:https://www.zfsinc.com
X-WR-CALDESC:Events for Zeeland Farm Services Inc.
REFRESH-INTERVAL;VALUE=DURATION:PT1H
X-Robots-Tag:noindex
X-PUBLISHED-TTL:PT1H
BEGIN:VTIMEZONE
TZID:UTC
BEGIN:STANDARD
TZOFFSETFROM:+0000
TZOFFSETTO:+0000
TZNAME:UTC
DTSTART:20190101T000000
END:STANDARD
END:VTIMEZONE
BEGIN:VEVENT
DTSTART;VALUE=DATE:20200619
DTEND;VALUE=DATE:20200620
DTSTAMP:20260421T202836
CREATED:20200610T223608Z
LAST-MODIFIED:20200610T223608Z
UID:3742-1592524800-1592611199@www.zfsinc.com
SUMMARY:3rd Annual Sam Letts Memorial Working Truck Show
DESCRIPTION:Working truck show in memory of Sam Letts\, who was a Vietnam vet and fellow driver. All proceeds go to hospice and a silent auction will go to the high school kids lunch program
URL:https://www.zfsinc.com/event/3rd-annual-sam-letts-memorial-working-truck-show/
LOCATION:Ionia Free Fair
CATEGORIES:Freight & Trucking
END:VEVENT
END:VCALENDAR