BEGIN:VCALENDAR
VERSION:2.0
PRODID:-//Zeeland Farm Services Inc. - ECPv6.15.20//NONSGML v1.0//EN
CALSCALE:GREGORIAN
METHOD:PUBLISH
X-ORIGINAL-URL:https://www.zfsinc.com
X-WR-CALDESC:Events for Zeeland Farm Services Inc.
REFRESH-INTERVAL;VALUE=DURATION:PT1H
X-Robots-Tag:noindex
X-PUBLISHED-TTL:PT1H
BEGIN:VTIMEZONE
TZID:UTC
BEGIN:STANDARD
TZOFFSETFROM:+0000
TZOFFSETTO:+0000
TZNAME:UTC
DTSTART:20180101T000000
END:STANDARD
END:VTIMEZONE
BEGIN:VEVENT
DTSTART;TZID=UTC:20190518T080000
DTEND;TZID=UTC:20190521T170000
DTSTAMP:20260421T110059
CREATED:20190409T233721Z
LAST-MODIFIED:20190409T234616Z
UID:3089-1558166400-1558458000@www.zfsinc.com
SUMMARY:National Restaurant Association Show
DESCRIPTION:For more info\, go to https://www.nationalrestaurantshow.com/
URL:https://www.zfsinc.com/event/national-restaurant-association-show/
LOCATION:mccormick place\, 6810 Reliable Parkway\, Chicago\, IL - ILLINOIS\, 60686-0068
CATEGORIES:Zoye
ATTACH;FMTTYPE=image/jpeg:https://www.zfsinc.com/wp-content/uploads/2019/04/national-restaurant-association-show.jpg
END:VEVENT
END:VCALENDAR