BEGIN:VCALENDAR
VERSION:2.0
PRODID:-//Zeeland Farm Services Inc. - ECPv6.15.20//NONSGML v1.0//EN
CALSCALE:GREGORIAN
METHOD:PUBLISH
X-WR-CALNAME:Zeeland Farm Services Inc.
X-ORIGINAL-URL:https://www.zfsinc.com
X-WR-CALDESC:Events for Zeeland Farm Services Inc.
REFRESH-INTERVAL;VALUE=DURATION:PT1H
X-Robots-Tag:noindex
X-PUBLISHED-TTL:PT1H
BEGIN:VTIMEZONE
TZID:UTC
BEGIN:STANDARD
TZOFFSETFROM:+0000
TZOFFSETTO:+0000
TZNAME:UTC
DTSTART:20180101T000000
END:STANDARD
END:VTIMEZONE
BEGIN:VEVENT
DTSTART;TZID=UTC:20210204T080000
DTEND;TZID=UTC:20210205T170000
DTSTAMP:20260419T154837
CREATED:20210116T013808Z
LAST-MODIFIED:20210116T013946Z
UID:4104-1612425600-1612544400@www.zfsinc.com
SUMMARY:Great Lakes Regional Dairy Conference
DESCRIPTION:This is a virtual zoom conference. \nGo to https://www.glrdc.org/ to register.
URL:https://www.zfsinc.com/event/great-lakes-regional-dairy-conference-2/
CATEGORIES:General ag related,Ingredients
ATTACH;FMTTYPE=image/png:https://www.zfsinc.com/wp-content/uploads/2021/01/GLRDC.png
END:VEVENT
BEGIN:VEVENT
DTSTART;TZID=UTC:20200129T080000
DTEND;TZID=UTC:20200130T170000
DTSTAMP:20260419T154837
CREATED:20191205T234821Z
LAST-MODIFIED:20191205T235033Z
UID:3485-1580284800-1580403600@www.zfsinc.com
SUMMARY:2020 Great Lakes Crop Summit
DESCRIPTION:
URL:https://www.zfsinc.com/event/2020-great-lakes-crop-summit/
LOCATION:Soaring Eagle Casino and Resort
CATEGORIES:General ag related,Ingredients
ATTACH;FMTTYPE=image/png:https://www.zfsinc.com/wp-content/uploads/2018/12/great-lakes-crop-summit-logo-medium.png
END:VEVENT
BEGIN:VEVENT
DTSTART;TZID=UTC:20200113T080000
DTEND;TZID=UTC:20200115T170000
DTSTAMP:20260419T154837
CREATED:20191205T235014Z
LAST-MODIFIED:20191220T222441Z
UID:3488-1578902400-1579107600@www.zfsinc.com
SUMMARY:2020 MABA Winter Conference
DESCRIPTION:
URL:https://www.zfsinc.com/event/2019-maba-winter-conference/
LOCATION:Lansing Center
CATEGORIES:General ag related,Ingredients
END:VEVENT
BEGIN:VEVENT
DTSTART;TZID=UTC:20191211T083000
DTEND;TZID=UTC:20191211T153000
DTSTAMP:20260419T154837
CREATED:20191205T235428Z
LAST-MODIFIED:20191211T195337Z
UID:3491-1576053000-1576078200@www.zfsinc.com
SUMMARY:Thumb Ag Day
DESCRIPTION:
URL:https://www.zfsinc.com/event/thumb-ag-day/
LOCATION:Ubly Heights Country Club\, 2409 E Atwater Road\, Ubly\, MI\, 48475\, United States
CATEGORIES:General ag related,Ingredients
END:VEVENT
BEGIN:VEVENT
DTSTART;TZID=UTC:20190423T080000
DTEND;TZID=UTC:20190424T170000
DTSTAMP:20260419T154837
CREATED:20190409T234139Z
LAST-MODIFIED:20190409T234658Z
UID:3092-1556006400-1556125200@www.zfsinc.com
SUMMARY:Tri State Dairy Nutrition Conference
DESCRIPTION:Stop by and see us at Booth #15. \nFor more info go to https://www.tristatedairy.org/
URL:https://www.zfsinc.com/event/tri-state-dairy-nutrition-conference/
LOCATION:grand wayne center\, 120 West Jefferson Boulevard\, fort wayne\, indiana\, 46802
CATEGORIES:General ag related,Ingredients
ATTACH;FMTTYPE=image/jpeg:https://www.zfsinc.com/wp-content/uploads/2019/04/tri-state-dairy-nutrition-conference.jpg
END:VEVENT
END:VCALENDAR