BEGIN:VCALENDAR
VERSION:2.0
PRODID:-//Zeeland Farm Services Inc. - ECPv6.15.20//NONSGML v1.0//EN
CALSCALE:GREGORIAN
METHOD:PUBLISH
X-ORIGINAL-URL:https://www.zfsinc.com
X-WR-CALDESC:Events for Zeeland Farm Services Inc.
REFRESH-INTERVAL;VALUE=DURATION:PT1H
X-Robots-Tag:noindex
X-PUBLISHED-TTL:PT1H
BEGIN:VTIMEZONE
TZID:UTC
BEGIN:STANDARD
TZOFFSETFROM:+0000
TZOFFSETTO:+0000
TZNAME:UTC
DTSTART:20200101T000000
END:STANDARD
END:VTIMEZONE
BEGIN:VEVENT
DTSTART;TZID=UTC:20210710T080000
DTEND;TZID=UTC:20210710T220000
DTSTAMP:20260423T183737
CREATED:20210701T233247Z
LAST-MODIFIED:20210701T233247Z
UID:4230-1625904000-1625954400@www.zfsinc.com
SUMMARY:Bob Gilliland Memorial Truck Show and Tractor Pull
DESCRIPTION:Join us for the Bob Gilliland Memorial Truck Show and Tractor Pull and see the ZFS show truck. \nLions Club pancake breakfast from 8 – 11am \nTruck show opens at 10 am \nKiddie bike parade at 1pm \nPull by West MI Pullers starts at 7pm \nOther activities throughout the day. \nAll proceeds go to NCAFA Arena Modernization Project.
URL:https://www.zfsinc.com/event/bob-gilliland-memorial-truck-show-and-tractor-pull/
LOCATION:Newaygo County Fairgrounds\, 815 S. Stewart Ave\, Fremont\, Michigan\, 49412
CATEGORIES:Freight & Trucking
END:VEVENT
END:VCALENDAR