BEGIN:VCALENDAR
VERSION:2.0
PRODID:-//Zeeland Farm Services Inc. - ECPv6.15.20//NONSGML v1.0//EN
CALSCALE:GREGORIAN
METHOD:PUBLISH
X-WR-CALNAME:Zeeland Farm Services Inc.
X-ORIGINAL-URL:https://www.zfsinc.com
X-WR-CALDESC:Events for Zeeland Farm Services Inc.
REFRESH-INTERVAL;VALUE=DURATION:PT1H
X-Robots-Tag:noindex
X-PUBLISHED-TTL:PT1H
BEGIN:VTIMEZONE
TZID:UTC
BEGIN:STANDARD
TZOFFSETFROM:+0000
TZOFFSETTO:+0000
TZNAME:UTC
DTSTART:20200101T000000
END:STANDARD
END:VTIMEZONE
BEGIN:VEVENT
DTSTART;VALUE=DATE:20210604
DTEND;VALUE=DATE:20210606
DTSTAMP:20260423T215248
CREATED:20210601T202350Z
LAST-MODIFIED:20220208T022049Z
UID:4191-1622764800-1622937599@www.zfsinc.com
SUMMARY:Great Lakes Pride & Shine
DESCRIPTION:See the ZFS show truck at the Great Lakes Pride & Shine! \nGreat Lakes Pride & Shine strives to bring the trucking industry together to give everyone the opportunity to show off their semi-trucks\, and do what they do best; talking about their industry\, while raising funds for a designated charity.
URL:https://www.zfsinc.com/event/great-lakes-pride-shine/
LOCATION:Mc Vankampen Headquarters\, 5976 Clay Ave SW\, Grand Rapids\, MI\, 49548\, United States
CATEGORIES:Freight & Trucking,General ag related
END:VEVENT
END:VCALENDAR