BEGIN:VCALENDAR
VERSION:2.0
PRODID:-//Zeeland Farm Services Inc. - ECPv6.15.20//NONSGML v1.0//EN
CALSCALE:GREGORIAN
METHOD:PUBLISH
X-WR-CALNAME:Zeeland Farm Services Inc.
X-ORIGINAL-URL:https://www.zfsinc.com
X-WR-CALDESC:Events for Zeeland Farm Services Inc.
REFRESH-INTERVAL;VALUE=DURATION:PT1H
X-Robots-Tag:noindex
X-PUBLISHED-TTL:PT1H
BEGIN:VTIMEZONE
TZID:UTC
BEGIN:STANDARD
TZOFFSETFROM:+0000
TZOFFSETTO:+0000
TZNAME:UTC
DTSTART:20240101T000000
END:STANDARD
END:VTIMEZONE
BEGIN:VEVENT
DTSTART;VALUE=DATE:20250818
DTEND;VALUE=DATE:20250824
DTSTAMP:20260421T133617
CREATED:20250422T203135Z
LAST-MODIFIED:20250422T203135Z
UID:5698-1755475200-1755993599@www.zfsinc.com
SUMMARY:Hudsonville Community Fair
DESCRIPTION:
URL:https://www.zfsinc.com/event/hudsonville-community-fair/
LOCATION:Hudsonville Community Fairgrounds\, 5235 Park Ave\, Hudsonville\, 49426
CATEGORIES:General ag related
END:VEVENT
END:VCALENDAR